BEGIN:VCALENDAR
VERSION:2.0
PRODID:-//Communities In Schools of Greater King County - ECPv6.15.15//NONSGML v1.0//EN
CALSCALE:GREGORIAN
METHOD:PUBLISH
X-WR-CALNAME:Communities In Schools of Greater King County
X-ORIGINAL-URL:https://gkc.ciswa.org
X-WR-CALDESC:Events for Communities In Schools of Greater King County
REFRESH-INTERVAL;VALUE=DURATION:PT1H
X-Robots-Tag:noindex
X-PUBLISHED-TTL:PT1H
BEGIN:VTIMEZONE
TZID:America/Los_Angeles
BEGIN:DAYLIGHT
TZOFFSETFROM:-0800
TZOFFSETTO:-0700
TZNAME:PDT
DTSTART:20240310T100000
END:DAYLIGHT
BEGIN:STANDARD
TZOFFSETFROM:-0700
TZOFFSETTO:-0800
TZNAME:PST
DTSTART:20241103T090000
END:STANDARD
BEGIN:DAYLIGHT
TZOFFSETFROM:-0800
TZOFFSETTO:-0700
TZNAME:PDT
DTSTART:20250309T100000
END:DAYLIGHT
BEGIN:STANDARD
TZOFFSETFROM:-0700
TZOFFSETTO:-0800
TZNAME:PST
DTSTART:20251102T090000
END:STANDARD
BEGIN:DAYLIGHT
TZOFFSETFROM:-0800
TZOFFSETTO:-0700
TZNAME:PDT
DTSTART:20260308T100000
END:DAYLIGHT
BEGIN:STANDARD
TZOFFSETFROM:-0700
TZOFFSETTO:-0800
TZNAME:PST
DTSTART:20261101T090000
END:STANDARD
END:VTIMEZONE
BEGIN:VEVENT
DTSTART;TZID=America/Los_Angeles:20251031T080000
DTEND;TZID=America/Los_Angeles:20251231T235900
DTSTAMP:20260421T080516
CREATED:20251031T162010Z
LAST-MODIFIED:20251031T162011Z
UID:2600-1761897600-1767225540@gkc.ciswa.org
SUMMARY:Holiday Gift Card Drive
DESCRIPTION:Using our community-centric fundraising lens\, we have moved away from the traditional giving tree program where wish lists are collected from families and then donors buy the gifts. We listened to what families were telling us\, so we now provide gifts cards to empower families and give them agency to purchase meaningful gifts without having to put their needs on display. Additionally\, gift cards collected will be used for all year-round holiday celebrations.
URL:https://gkc.ciswa.org/event/holiday-gift-card-drive-2/
END:VEVENT
END:VCALENDAR